BEGIN:VCALENDAR
VERSION:2.0
PRODID:-//TUNRA Bulk Solids - ECPv6.15.20//NONSGML v1.0//EN
CALSCALE:GREGORIAN
METHOD:PUBLISH
X-ORIGINAL-URL:https://www.bulksolids.com.au
X-WR-CALDESC:Events for TUNRA Bulk Solids
REFRESH-INTERVAL;VALUE=DURATION:PT1H
X-Robots-Tag:noindex
X-PUBLISHED-TTL:PT1H
BEGIN:VTIMEZONE
TZID:Australia/Sydney
BEGIN:STANDARD
TZOFFSETFROM:+1100
TZOFFSETTO:+1000
TZNAME:AEST
DTSTART:20210403T160000
END:STANDARD
BEGIN:DAYLIGHT
TZOFFSETFROM:+1000
TZOFFSETTO:+1100
TZNAME:AEDT
DTSTART:20211002T160000
END:DAYLIGHT
BEGIN:STANDARD
TZOFFSETFROM:+1100
TZOFFSETTO:+1000
TZNAME:AEST
DTSTART:20220402T160000
END:STANDARD
BEGIN:DAYLIGHT
TZOFFSETFROM:+1000
TZOFFSETTO:+1100
TZNAME:AEDT
DTSTART:20221001T160000
END:DAYLIGHT
BEGIN:STANDARD
TZOFFSETFROM:+1100
TZOFFSETTO:+1000
TZNAME:AEST
DTSTART:20230401T160000
END:STANDARD
BEGIN:DAYLIGHT
TZOFFSETFROM:+1000
TZOFFSETTO:+1100
TZNAME:AEDT
DTSTART:20230930T160000
END:DAYLIGHT
BEGIN:STANDARD
TZOFFSETFROM:+1100
TZOFFSETTO:+1000
TZNAME:AEST
DTSTART:20240406T160000
END:STANDARD
BEGIN:DAYLIGHT
TZOFFSETFROM:+1000
TZOFFSETTO:+1100
TZNAME:AEDT
DTSTART:20241005T160000
END:DAYLIGHT
END:VTIMEZONE
BEGIN:VTIMEZONE
TZID:Australia/Perth
BEGIN:STANDARD
TZOFFSETFROM:+0800
TZOFFSETTO:+0800
TZNAME:AWST
DTSTART:20210101T000000
END:STANDARD
END:VTIMEZONE
BEGIN:VEVENT
DTSTART;VALUE=DATE:20230306
DTEND;VALUE=DATE:20230311
DTSTAMP:20260423T064321
CREATED:20221019T223109Z
LAST-MODIFIED:20230221T235257Z
UID:2082-1678060800-1678492799@www.bulksolids.com.au
SUMMARY:Storage\, Feeding\, Transfer\, Belt Conveying Course - Online
DESCRIPTION:The storage\, handling and transportation of bulk solid materials are major activities for a vast number and variety of industries throughout the world. These range from the gentle handling of very small quantities of material in the pharmaceutical and chemical industries to the vast quantities handled and processed by the mining and mineral companies. This diversity is particularly evident in Australia where the wide-ranging nature and scale of operations is somewhat unique. \nConsiderable advances continue to be made in research\, development\, application and implementation of the technologies associated with various aspects of bulk solids handling. \nThis course will be of particular interest to a wide range of industries including: \n\nMining and mineral production processing\nPower generation\nEnergy and environment\nChemical and petrochemical process industries\nAgriculture processing and production\nManufacturing\nPharmaceuticals\nFood industry\n\nCost\nEarly Bird Delegate Registration: $2250+ GST (Before 6th February 2023) \nDelegate Registration: $2650 + GST \n5 or more delegates receive a 10% discount. All fees must be paid prior to the event. \nFees include program notes. \nPlease note\, course presenters are subject to change. All fees must be paid prior to the event. \nDownload Brochure
URL:https://www.bulksolids.com.au/event/storage-feeding-transfer-and-belt-conveying-course-online-2/
LOCATION:Online\, Australia
ATTACH;FMTTYPE=image/jpeg:https://www.bulksolids.com.au/wp-content/uploads/2021/11/sky-e1639352162956.jpg
ORGANIZER;CN="TUNRA Bulk Solids":MAILTO:Danielle.Harris@newcastle.edu.au
END:VEVENT
BEGIN:VEVENT
DTSTART;VALUE=DATE:20221115
DTEND;VALUE=DATE:20221118
DTSTAMP:20260423T064321
CREATED:20211129T032213Z
LAST-MODIFIED:20221019T222809Z
UID:1585-1668470400-1668729599@www.bulksolids.com.au
SUMMARY:Storage\, Feeding\, Transfer\, Belt Conveying - Perth
DESCRIPTION:The storage\, handling and transportation of bulk solid materials are major activities for a vast number and variety of industries throughout the world. These range from the gentle handling of very small quantities of material in the pharmaceutical and chemical industries to the vast quantities handled and processed by the mining and mineral companies. This diversity is particularly evident in Australia where the wide-ranging nature and scale of operations is somewhat unique. \nConsiderable advances continue to be made in research\, development\, application and implementation of the technologies associated with various aspects of bulk solids handling. \nThis course will be of particular interest to a wide range of industries including: \n\nMining and mineral production processing\nPower generation\nEnergy and environment\nChemical and petrochemical process industries\nAgriculture processing and production\nManufacturing\nPharmaceuticals\nFood industry\n\nCost\nEarly Bird Delegate Registration: $2950+ GST (Before 15th October\, 2022) \nDelegate Registration: $3450 + GST \n5 or more delegates receive a 10% discount. All fees must be paid prior to the event. \nFees include program notes\, lunches and refreshments. \nPlease note\, course presenters are subject to change. All fees must be paid prior to the event. \nDownload Brochure \n 
URL:https://www.bulksolids.com.au/event/storage-feeding-transfer-belt-conveying-perth/
LOCATION:The Mercure Perth\, 10 Irwin Street\, Perth\, WA\, 6000\, Australia
ATTACH;FMTTYPE=image/jpeg:https://www.bulksolids.com.au/wp-content/uploads/2020/06/skyscene1-1.jpg
ORGANIZER;CN="TUNRA Bulk Solids":MAILTO:Danielle.Harris@newcastle.edu.au
END:VEVENT
BEGIN:VEVENT
DTSTART;TZID=Australia/Perth:20221012T133000
DTEND;TZID=Australia/Perth:20221012T150000
DTSTAMP:20260423T064321
CREATED:20220906T231411Z
LAST-MODIFIED:20220906T233713Z
UID:1908-1665581400-1665586800@www.bulksolids.com.au
SUMMARY:Bulk Materials Handling Workshop
DESCRIPTION:TUNRA Bulk Solids will be presenting a technical workshop at the WA Mining Expo\, which will take place in Perth on 12th October 2022. Bulk Handling systems are imperative for the mining industry and when not designed properly can incur excessive maintenance and downtime costs\, not to mention risks to the environment and health. This workshop\, taught by TUNRA Bulk Solids’ Engineering Manager Dr Bin Chen and engineer Priscilla Freire will look at some of the typical handling issues experienced by the mining industry as well as materials properties and their influence on system behaviour. \nParticipants will gain insight into: \n\nTroubleshooting materials handling issues in the mining industry\nUnderstanding material properties and their influence on handleability\nTools for effective design of materials handling systems\n\nThis workshop will be of interest to professionals in production management\, strategic planning\, mechanical & process engineering\, process control\, continuous improvement working bodies\, and maintenance personnel. \nCost \nThis is a free workshop\, for further information or to register your interest\, please contact Priscilla.Freire@newcastle.edu.au or Danielle.Harris@newcastle.edu.au  \n  \n 
URL:https://www.bulksolids.com.au/event/bulk-materials-handling-workshop/
LOCATION:Perth Convention & Exhibition Centre\, 21 Mounts Bay Rd\, Perth\, WA\, 6000\, Australia
ATTACH;FMTTYPE=image/png:https://www.bulksolids.com.au/wp-content/uploads/2022/09/WA-Mining-Expo2-1.png
ORGANIZER;CN="WA Mining Conference & Exhibition":MAILTO:info@waminingexpo.com.au
END:VEVENT
BEGIN:VEVENT
DTSTART;VALUE=DATE:20220926
DTEND;VALUE=DATE:20220928
DTSTAMP:20260423T064321
CREATED:20220531T041906Z
LAST-MODIFIED:20220803T033445Z
UID:1871-1664150400-1664323199@www.bulksolids.com.au
SUMMARY:Transfer Chute Design
DESCRIPTION:The storage\, handling and transportation of bulk solid materials are major activities for a vast number and variety of industries throughout the world. These range from the gentle handling of very small quantities of material in the pharmaceutical and chemical industries to the vast quantities handled and processed by the mining and mineral companies. This diversity is particularly evident in Australia where the wide-ranging nature and scale of operations is somewhat unique. \nConsiderable advances continue to be made in research\, development\, application and implementation of the technologies associated with various aspects of bulk solids handling. \nThis course will be of particular interest to a wide range of industries including: \n\nMining and mineral production processing\nPower generation\nEnergy and environment\nChemical and petrochemical process industries\nAgriculture processing and production\nManufacturing\n\nCost \nEarly Bird Delegate Registration: $1900+ GST (Before 26th August\, 2022) \nDelegate Registration: $2100 + GST \n5 or more delegates receive a 10% discount. All fees must be paid prior to the event. \nFees include electronic program notes\, lunches and refreshments. \nPlease note\, course presenters are subject to change. All fees must be paid prior to the event. \nDownload Brochure \n 
URL:https://www.bulksolids.com.au/event/transfer-chute-design/
LOCATION:TUNRA Bulk Solids\, Newcastle Institute for Energy and Resources\, The University of Newcastle\, Off Vale Street\, Shortland\, NSW\, 2307\, Australia
ATTACH;FMTTYPE=image/jpeg:https://www.bulksolids.com.au/wp-content/uploads/2020/06/skyscene1-1.jpg
ORGANIZER;CN="TUNRA Bulk Solids":MAILTO:Danielle.Harris@newcastle.edu.au
END:VEVENT
BEGIN:VEVENT
DTSTART;TZID=Australia/Sydney:20220915T133000
DTEND;TZID=Australia/Sydney:20220915T143000
DTSTAMP:20260423T064321
CREATED:20220907T012950Z
LAST-MODIFIED:20220907T014220Z
UID:1921-1663248600-1663252200@www.bulksolids.com.au
SUMMARY:Webinar: Bulk Materials Handling Challenges in Process Industries
DESCRIPTION:ESSS in conjunction with TUNRA Bulk Solids will be hosting a webinar on 15th September. In this webinar\, TUNRA Bulk Solids’ Engineering Manager Dr Bin Chen and Consulting Engineer Dr Jens Plinke will present on the principles of flow properties and air-particle interactions\, including testing procedures\, interpretation and application to the design of handling systems such as mass flow/funnel flow bins\, discharge/feeding equipment and pneumatic conveying systems. \nTopics Covered: \n\nCommon material storage and handling issues\nIntroduction to modes of flow in bins/hoppers\nFlow property and air-particle behaviour testing\nApplication of material properties on storage and handling systems\nPneumatic conveying dilute and dense phase systems\nTrouble shooting and case studies\n\nUnderstanding these fundamentals and learning from common mistakes can help you overcome existing handling problems and design new systems with trouble-free plant operations for the process industries dealing with bulk materials. \nThis workshop will be of interest to professionals in production management\, strategic planning\, mechanical & process engineering\, process control\, continuous improvement working bodies\, and maintenance personnel. \nCost \nThis is a free webinar\, for further information please contact Priscilla.Freire@newcastle.edu.au or click here to register \n  \n 
URL:https://www.bulksolids.com.au/event/webinar-bulk-materials-handling-challenges-in-process-industries/
LOCATION:Online\, Australia
ATTACH;FMTTYPE=image/jpeg:https://www.bulksolids.com.au/wp-content/uploads/2020/06/case-studies.jpg
END:VEVENT
BEGIN:VEVENT
DTSTART;VALUE=DATE:20220824
DTEND;VALUE=DATE:20220827
DTSTAMP:20260423T064321
CREATED:20211129T034311Z
LAST-MODIFIED:20211215T013731Z
UID:1587-1661299200-1661558399@www.bulksolids.com.au
SUMMARY:BULK 2022 - Australian Bulk Handling Expo
DESCRIPTION:The Australian Bulk Handling Expo will showcase the bulk handling industry as a standalone exhibition with the benefit of co-location with MEGATRANS\, which integrates intrinsically with the logistics and multimodal freight sector. \n24 – 26 August 2022\nMelbourne Convention and Exhibition Centre\nhttps://www.bulkhandlingexpo.com.au/ \n  \n  \n 
URL:https://www.bulksolids.com.au/event/bulk-2022-australian-bulk-handling-expo/
LOCATION:Melbourne Convention & Exhibition Centre\, 1 Convention Centre Pl\, South Wharf\, VIC\, 3006\, Australia
ATTACH;FMTTYPE=image/jpeg:https://www.bulksolids.com.au/wp-content/uploads/2021/11/Bulk2022-Logo-002-e1639532389833.jpg
END:VEVENT
BEGIN:VEVENT
DTSTART;TZID=Australia/Sydney:20220809T130000
DTEND;TZID=Australia/Sydney:20220809T163000
DTSTAMP:20260423T064321
CREATED:20220601T024202Z
LAST-MODIFIED:20220601T024701Z
UID:1883-1660050000-1660062600@www.bulksolids.com.au
SUMMARY:Belt Conveyor & Component Testing Capabilities Overview
DESCRIPTION:The storage\, handling and transportation of bulk solid materials are major activities for a vast number and variety of industries throughout the world. These range from the gentle handling of very small quantities of material in the pharmaceutical and chemical industries to the vast quantities handled and processed by the mining and mineral companies. This diversity is particularly evident in Australia where the wide-ranging nature and scale of operations is somewhat unique. \nConsiderable advances continue to be made in research\, development\, application and implementation of the technologies associated with belt conveying and associated testing. \nTUNRA Bulk Solids are pleased to welcome you for a half-day presentation on the latest advancements in the belt conveying field\, along with a site tour which will showcase TUNRA’s state-of-the-art testing facilities which are ISO9001\, ISO14001 andAS45001 Certified. \nTopics Covered \n\nAdvancements in the energy efficient design of belt conveyors\nLatest testing available for system components\nCase studies\n\nThis will be of particular interest to:  \n\nMechanical\, maintenance and process engineers / personnel\nBelt manufacturers and or suppliers\n\nIndustries including: \n\nMining and mineral processing\nPower generation\nEnergy and environment\nChemical\nAgricultural\nFood processing\nManufacturing\n\nTo register for the event please contact Priscilla.Freire@newcastle.edu.au  \nCost\nFree \nDownload Brochure \n 
URL:https://www.bulksolids.com.au/event/belt-conveyor-component-testing-capabilities-overview/
LOCATION:TUNRA Bulk Solids\, Newcastle Institute for Energy and Resources\, The University of Newcastle\, Off Vale Street\, Shortland\, NSW\, 2307\, Australia
ATTACH;FMTTYPE=image/jpeg:https://www.bulksolids.com.au/wp-content/uploads/2020/06/skyscene1-1.jpg
ORGANIZER;CN="TUNRA Bulk Solids":MAILTO:Danielle.Harris@newcastle.edu.au
END:VEVENT
BEGIN:VEVENT
DTSTART;TZID=Australia/Sydney:20220720T133000
DTEND;TZID=Australia/Sydney:20220720T153000
DTSTAMP:20260423T064321
CREATED:20220512T000749Z
LAST-MODIFIED:20220512T005627Z
UID:1853-1658323800-1658331000@www.bulksolids.com.au
SUMMARY:Workshop: Materials Handling Science in the Design & Selection of Equipment - QME
DESCRIPTION:TUNRA Bulk Solids\, in conjunction with specialists from FLSmidth\, will be presenting a technical workshop at the Queensland Mining and Engineering Exhibition (QME)\, to take place in Mackay. This two-hour workshop will provide  delegates with known research development in the fundamentals of bulk solids handling and industry specialists surrounding machines types\, with solutions based primarily on Materials Handling Science and how this determines design considerations and machine selection. \nParticipants will gain insight into: \n\nImportance of material properties\nTesting/sampling considerations\nBasic design principles for efficient transfer chute operation\nDetermining the critical data/considerations/communications needed for machine selection\nImportance of defined machine operating parameters from concept to operation\n\nThis workshop will be of interest to professionals in production management\, strategic planning\, mechanical & process engineering\, process control\, continuous improvement working bodies\, and maintenance personnel. \nCost \nThis is a free workshop\, for further information or to register your interest\, please contact Priscilla.Freire@newcastle.edu.au or Danielle.Harris@newcastle.edu.au  \n  \n 
URL:https://www.bulksolids.com.au/event/bulk-materials-handling-workshop-materials-handling-science-in-the-design-selection-of-equipment-queensland-mining-engineering-exhibition/
LOCATION:Resouces Centre of Excellence\, 65 Crichtons Rd\, Mackay\, QLD\, 4740\, Australia
ATTACH;FMTTYPE=image/png:https://www.bulksolids.com.au/wp-content/uploads/2022/05/Registration-Launch.png
END:VEVENT
BEGIN:VEVENT
DTSTART;VALUE=DATE:20220524
DTEND;VALUE=DATE:20220527
DTSTAMP:20260423T064321
CREATED:20211129T031841Z
LAST-MODIFIED:20220202T213230Z
UID:1581-1653350400-1653609599@www.bulksolids.com.au
SUMMARY:Storage\, Feeding\, Transfer\, Belt Conveying - Newcastle
DESCRIPTION:The storage\, handling and transportation of bulk solid materials are major activities for a vast number and variety of industries throughout the world. These range from the gentle handling of very small quantities of material in the pharmaceutical and chemical industries to the vast quantities handled and processed by the mining and mineral companies. This diversity is particularly evident in Australia where the wide-ranging nature and scale of operations is somewhat unique. \nConsiderable advances continue to be made in research\, development\, application and implementation of the technologies associated with various aspects of bulk solids handling. \nThis course will be of particular interest to a wide range of industries including: \n\nMining and mineral production processing\nPower generation\nEnergy and environment\nChemical and petrochemical process industries\nAgriculture processing and production\nManufacturing\nPharmaceuticals\nFood industry\n\nCost\nEarly Bird Delegate Registration: $2950+ GST (Before 24th April\, 2022) \nDelegate Registration: $3450 + GST \n5 or more delegates receive a 10% discount. All fees must be paid prior to the event. \nFees include program notes\, laboratory sessions (where applicable)\, lunches and refreshments. \nPlease note\, course presenters are subject to change. All fees must be paid prior to the event. \nDownload Brochure
URL:https://www.bulksolids.com.au/event/storage-feeding-transfer-belt-conveying-newcastle/
LOCATION:The University of Newcastle\, NIER Site\, A Block\, 70 Vale Street\, Shortland\, NSW\, 2307\, Australia
ATTACH;FMTTYPE=image/jpeg:https://www.bulksolids.com.au/wp-content/uploads/2020/06/Home_Banner_1400x480_0001_PWCS-at-night2.jpg
ORGANIZER;CN="TUNRA Bulk Solids":MAILTO:Danielle.Harris@newcastle.edu.au
END:VEVENT
BEGIN:VEVENT
DTSTART;VALUE=DATE:20220314
DTEND;VALUE=DATE:20220319
DTSTAMP:20260423T064321
CREATED:20211129T030905Z
LAST-MODIFIED:20220202T212705Z
UID:1580-1647216000-1647647999@www.bulksolids.com.au
SUMMARY:Storage\, Feeding\, Transfer and Belt Conveying Course - Online
DESCRIPTION:The storage\, handling and transportation of bulk solid materials are major activities for a vast number and variety of industries throughout the world. These range from the gentle handling of very small quantities of material in the pharmaceutical and chemical industries to the vast quantities handled and processed by the mining and mineral companies. This diversity is particularly evident in Australia where the wide-ranging nature and scale of operations is somewhat unique. \nConsiderable advances continue to be made in research\, development\, application and implementation of the technologies associated with various aspects of bulk solids handling. \nThis course will be of particular interest to a wide range of industries including: \n\nMining and mineral production processing\nPower generation\nEnergy and environment\nChemical and petrochemical process industries\nAgriculture processing and production\nManufacturing\nPharmaceuticals\nFood industry\n\nCost\nEarly Bird Delegate Registration: $2250+ GST (Before 15th February 2022) \nDelegate Registration: $2650 + GST \n5 or more delegates receive a 10% discount. All fees must be paid prior to the event. \nFees include program notes. \nPlease note\, course presenters are subject to change. All fees must be paid prior to the event. \nDownload Brochure
URL:https://www.bulksolids.com.au/event/storage-feeding-transfer-and-belt-conveying-course-online/
LOCATION:Online\, Australia
ATTACH;FMTTYPE=image/jpeg:https://www.bulksolids.com.au/wp-content/uploads/2020/06/TBS0120-2-1.jpg
ORGANIZER;CN="TUNRA Bulk Solids":MAILTO:Danielle.Harris@newcastle.edu.au
END:VEVENT
END:VCALENDAR