BEGIN:VCALENDAR
VERSION:2.0
PRODID:-//TUNRA Bulk Solids - ECPv6.15.20//NONSGML v1.0//EN
CALSCALE:GREGORIAN
METHOD:PUBLISH
X-WR-CALNAME:TUNRA Bulk Solids
X-ORIGINAL-URL:https://www.bulksolids.com.au
X-WR-CALDESC:Events for TUNRA Bulk Solids
REFRESH-INTERVAL;VALUE=DURATION:PT1H
X-Robots-Tag:noindex
X-PUBLISHED-TTL:PT1H
BEGIN:VTIMEZONE
TZID:Australia/Sydney
BEGIN:STANDARD
TZOFFSETFROM:+1100
TZOFFSETTO:+1000
TZNAME:AEST
DTSTART:20240406T160000
END:STANDARD
BEGIN:DAYLIGHT
TZOFFSETFROM:+1000
TZOFFSETTO:+1100
TZNAME:AEDT
DTSTART:20241005T160000
END:DAYLIGHT
BEGIN:STANDARD
TZOFFSETFROM:+1100
TZOFFSETTO:+1000
TZNAME:AEST
DTSTART:20250405T160000
END:STANDARD
BEGIN:DAYLIGHT
TZOFFSETFROM:+1000
TZOFFSETTO:+1100
TZNAME:AEDT
DTSTART:20251004T160000
END:DAYLIGHT
BEGIN:STANDARD
TZOFFSETFROM:+1100
TZOFFSETTO:+1000
TZNAME:AEST
DTSTART:20260404T160000
END:STANDARD
BEGIN:DAYLIGHT
TZOFFSETFROM:+1000
TZOFFSETTO:+1100
TZNAME:AEDT
DTSTART:20261003T160000
END:DAYLIGHT
END:VTIMEZONE
BEGIN:VEVENT
DTSTART;TZID=Australia/Sydney:20250925T143000
DTEND;TZID=Australia/Sydney:20250925T153000
DTSTAMP:20260423T073721
CREATED:20250818T051441Z
LAST-MODIFIED:20250819T231148Z
UID:3979-1758810600-1758814200@www.bulksolids.com.au
SUMMARY:AIMEX Presentation: Bulk Materials Handling: Flow\, Wear\, and Conveyor Component Selection
DESCRIPTION:Asia Pacific’s International Mining and Exhibition (AIMEX) is Australia’s longest running mining show and has a history of supporting the latest trends and developments in the industry. The experts at TUNRA Bulk Solids will be presenting a session on “Bulk Materials Handling: Flow\, Wear\, and Conveyor Component Selection” which will provide practical insights into key challenges and solutions in bulk materials handling across mining operations. It covers material flow property testing and how it informs the design of hoppers and chutes to prevent common issues such as blockages and poor discharge. It will also discuss wear mechanisms affecting conveyor belts and chute liners\, along with strategies for mitigating wear in demanding environments. Finally\, the session will explore the selection of idlers as the key conveyor component to optimise reliability\, efficiency\, and service life. \nDownload Presentation and Speaker Information 
URL:https://www.bulksolids.com.au/event/bulk-materials-handling-flow-wear-and-conveyor-component-selection/
LOCATION:Adelaide Showground\, Goodwood Rd\, Wayville South Australia\, South Australia\, 5034\, Australia
ATTACH;FMTTYPE=image/jpeg:https://www.bulksolids.com.au/wp-content/uploads/2023/01/TBS0110-scaled-e1677022176329.jpg
ORGANIZER;CN="AIMEX":MAILTO:aimex@reedexhibitions.com.au
END:VEVENT
END:VCALENDAR