BEGIN:VCALENDAR
VERSION:2.0
PRODID:-//TUNRA Bulk Solids - ECPv6.15.20//NONSGML v1.0//EN
CALSCALE:GREGORIAN
METHOD:PUBLISH
X-WR-CALNAME:TUNRA Bulk Solids
X-ORIGINAL-URL:https://www.bulksolids.com.au
X-WR-CALDESC:Events for TUNRA Bulk Solids
REFRESH-INTERVAL;VALUE=DURATION:PT1H
X-Robots-Tag:noindex
X-PUBLISHED-TTL:PT1H
BEGIN:VTIMEZONE
TZID:Australia/Perth
BEGIN:STANDARD
TZOFFSETFROM:+0800
TZOFFSETTO:+0800
TZNAME:AWST
DTSTART:20220101T000000
END:STANDARD
END:VTIMEZONE
BEGIN:VEVENT
DTSTART;TZID=Australia/Perth:20230921T090000
DTEND;TZID=Australia/Perth:20230921T130000
DTSTAMP:20260423T152155
CREATED:20230711T021609Z
LAST-MODIFIED:20230711T040753Z
UID:2482-1695286800-1695301200@www.bulksolids.com.au
SUMMARY:TUNRA Bulk Solids Iron Ore Workshop - How to make materials handling decisions
DESCRIPTION:A detailed understanding of material properties is crucial to ensure optimal performance in the handling chain. When it comes to iron ore\, specific test methods are available to assess its quality from a materials handling perspective. This helps differentiate between “good” and “bad” materials based on factors such as internal strength\, friction\, and cohesion. Testing outcomes provide valuable data\, which\, when interpreted correctly\, inform decision-making to ensure optimal performance under a range of conditions\, optimizing design\, processing and transport efficiency. \nHowever\, it is essential to recognize that the landscape of available deposits is constantly evolving. As we extract ore from new deposits\, new challenges are encountered\, driving innovation in handling\, processing\, and testing technologies. \nThe workshop on ‘How to Make Materials Handling Decisions’ will introduce: \n\nThe importance of materials testing\nMaterials testing available for iron ore\nWhat “good” and “bad” iron ores look like\nTesting outcomes and their interpretation\nBenefits of specific ore testing in the design process\nThe evolving challenges in testing and application\n\nFor further information on the event or to register 
URL:https://www.bulksolids.com.au/event/tunra-bulk-solids-iron-ore-workshop-how-to-make-materials-handling-decisions/
LOCATION:Perth Convention & Exhibition Centre\, 21 Mounts Bay Rd\, Perth\, WA\, 6000\, Australia
ATTACH;FMTTYPE=image/jpeg:https://www.bulksolids.com.au/wp-content/uploads/2023/01/TBS0110-scaled-e1677022176329.jpg
END:VEVENT
END:VCALENDAR