BEGIN:VCALENDAR
VERSION:2.0
PRODID:-//TUNRA Bulk Solids - ECPv6.15.20//NONSGML v1.0//EN
CALSCALE:GREGORIAN
METHOD:PUBLISH
X-ORIGINAL-URL:https://www.bulksolids.com.au
X-WR-CALDESC:Events for TUNRA Bulk Solids
REFRESH-INTERVAL;VALUE=DURATION:PT1H
X-Robots-Tag:noindex
X-PUBLISHED-TTL:PT1H
BEGIN:VTIMEZONE
TZID:Australia/Sydney
BEGIN:STANDARD
TZOFFSETFROM:+1100
TZOFFSETTO:+1000
TZNAME:AEST
DTSTART:20220402T160000
END:STANDARD
BEGIN:DAYLIGHT
TZOFFSETFROM:+1000
TZOFFSETTO:+1100
TZNAME:AEDT
DTSTART:20221001T160000
END:DAYLIGHT
BEGIN:STANDARD
TZOFFSETFROM:+1100
TZOFFSETTO:+1000
TZNAME:AEST
DTSTART:20230401T160000
END:STANDARD
BEGIN:DAYLIGHT
TZOFFSETFROM:+1000
TZOFFSETTO:+1100
TZNAME:AEDT
DTSTART:20230930T160000
END:DAYLIGHT
BEGIN:STANDARD
TZOFFSETFROM:+1100
TZOFFSETTO:+1000
TZNAME:AEST
DTSTART:20240406T160000
END:STANDARD
BEGIN:DAYLIGHT
TZOFFSETFROM:+1000
TZOFFSETTO:+1100
TZNAME:AEDT
DTSTART:20241005T160000
END:DAYLIGHT
END:VTIMEZONE
BEGIN:VEVENT
DTSTART;VALUE=DATE:20231114
DTEND;VALUE=DATE:20231117
DTSTAMP:20260423T115253
CREATED:20221019T222458Z
LAST-MODIFIED:20230912T021855Z
UID:2077-1699920000-1700179199@www.bulksolids.com.au
SUMMARY:3-Day Bulk Solids Course - Perth
DESCRIPTION:The storage\, handling and transportation of bulk solid materials are major activities for a vast number and variety of industries throughout the world. These range from the gentle handling of very small quantities of material in the pharmaceutical and chemical industries to the vast quantities handled and processed by the mining and mineral companies. This diversity is particularly evident in Australia where the wide-ranging nature and scale of operations is somewhat unique. \nConsiderable advances continue to be made in research\, development\, application and implementation of the technologies associated with various aspects of bulk solids handling. \nThis course will be of particular interest to a wide range of industries including: \n\nMining and mineral production processing\nPower generation\nEnergy and environment\nChemical and petrochemical process industries\nAgriculture processing and production\nManufacturing\nPharmaceuticals\nFood industry\n\nCost\nEarly Bird Delegate Registration: $2950+ GST (Before 14th October\, 2023) \nDelegate Registration: $3450 + GST \n5 or more delegates receive a 10% discount. All fees must be paid prior to the event. \nFees include program notes\, lunches and refreshments. \nPlease note\, course presenters are subject to change. All fees must be paid prior to the event. \nDownload Brochure \n 
URL:https://www.bulksolids.com.au/event/storage-feeding-transfer-belt-conveying-perth-2/
LOCATION:Cliftons Perth\, Pamelia House\, 191 St Georges Terrace\, Perth\, WA\, 6000\, Australia
ATTACH;FMTTYPE=image/png:https://www.bulksolids.com.au/wp-content/uploads/2023/02/Belt-Picture-e1677022043815.png
ORGANIZER;CN="TUNRA Bulk Solids":MAILTO:Danielle.Harris@newcastle.edu.au
END:VEVENT
END:VCALENDAR