BEGIN:VCALENDAR
VERSION:2.0
PRODID:-//TUNRA Bulk Solids - ECPv6.15.20//NONSGML v1.0//EN
CALSCALE:GREGORIAN
METHOD:PUBLISH
X-WR-CALNAME:TUNRA Bulk Solids
X-ORIGINAL-URL:https://www.bulksolids.com.au
X-WR-CALDESC:Events for TUNRA Bulk Solids
REFRESH-INTERVAL;VALUE=DURATION:PT1H
X-Robots-Tag:noindex
X-PUBLISHED-TTL:PT1H
BEGIN:VTIMEZONE
TZID:Australia/Sydney
BEGIN:STANDARD
TZOFFSETFROM:+1100
TZOFFSETTO:+1000
TZNAME:AEST
DTSTART:20210403T160000
END:STANDARD
BEGIN:DAYLIGHT
TZOFFSETFROM:+1000
TZOFFSETTO:+1100
TZNAME:AEDT
DTSTART:20211002T160000
END:DAYLIGHT
BEGIN:STANDARD
TZOFFSETFROM:+1100
TZOFFSETTO:+1000
TZNAME:AEST
DTSTART:20220402T160000
END:STANDARD
BEGIN:DAYLIGHT
TZOFFSETFROM:+1000
TZOFFSETTO:+1100
TZNAME:AEDT
DTSTART:20221001T160000
END:DAYLIGHT
BEGIN:STANDARD
TZOFFSETFROM:+1100
TZOFFSETTO:+1000
TZNAME:AEST
DTSTART:20230401T160000
END:STANDARD
BEGIN:DAYLIGHT
TZOFFSETFROM:+1000
TZOFFSETTO:+1100
TZNAME:AEDT
DTSTART:20230930T160000
END:DAYLIGHT
BEGIN:STANDARD
TZOFFSETFROM:+1100
TZOFFSETTO:+1000
TZNAME:AEST
DTSTART:20240406T160000
END:STANDARD
BEGIN:DAYLIGHT
TZOFFSETFROM:+1000
TZOFFSETTO:+1100
TZNAME:AEDT
DTSTART:20241005T160000
END:DAYLIGHT
BEGIN:STANDARD
TZOFFSETFROM:+1100
TZOFFSETTO:+1000
TZNAME:AEST
DTSTART:20250405T160000
END:STANDARD
BEGIN:DAYLIGHT
TZOFFSETFROM:+1000
TZOFFSETTO:+1100
TZNAME:AEDT
DTSTART:20251004T160000
END:DAYLIGHT
BEGIN:STANDARD
TZOFFSETFROM:+1100
TZOFFSETTO:+1000
TZNAME:AEST
DTSTART:20260404T160000
END:STANDARD
BEGIN:DAYLIGHT
TZOFFSETFROM:+1000
TZOFFSETTO:+1100
TZNAME:AEDT
DTSTART:20261003T160000
END:DAYLIGHT
BEGIN:STANDARD
TZOFFSETFROM:+1100
TZOFFSETTO:+1000
TZNAME:AEST
DTSTART:20270403T160000
END:STANDARD
BEGIN:DAYLIGHT
TZOFFSETFROM:+1000
TZOFFSETTO:+1100
TZNAME:AEDT
DTSTART:20271002T160000
END:DAYLIGHT
END:VTIMEZONE
BEGIN:VEVENT
DTSTART;TZID=Australia/Sydney:20260323T090000
DTEND;TZID=Australia/Sydney:20260327T130000
DTSTAMP:20260423T074003
CREATED:20251127T012411Z
LAST-MODIFIED:20251127T013222Z
UID:4089-1774256400-1774616400@www.bulksolids.com.au
SUMMARY:Online Bulk Materials Handling Course\, March 2026
DESCRIPTION:The storage\, handling and transportation of bulk solid materials are major activities for a vast number and variety of industries throughout the world. These range from the gentle handling of very small quantities of material in the pharmaceutical and chemical industries to the vast quantities handled and processed by the mining and mineral companies. This diversity is particularly evident in Australia where the wide-ranging nature and scale of operations is somewhat unique. \nConsiderable advances continue to be made in research\, development\, application and implementation of the technologies associated with various aspects of bulk solids handling. \nThis course will be of particular interest to a wide range of industries including: \n\nMining and mineral production processing\nPower generation\nEnergy and environment\nChemical and petrochemical process industries\nAgriculture processing and production\nManufacturing\nPharmaceuticals\nFood industry\n\nCost\nEarly Bird Delegate Registration: $2\, 475+ GST (Before 23rd February\, 2026) \nDelegate Registration: $2\, 775 + GST \n5 or more delegates receive a 10% discount\, all fees are in Australian dollars and must be paid prior to the event. \nFees include electronic program notes and extra reading materials. \nDownload course brochure 
URL:https://www.bulksolids.com.au/event/online-bulk-materials-handling-course/
LOCATION:Online\, Australia
ATTACH;FMTTYPE=image/jpeg:https://www.bulksolids.com.au/wp-content/uploads/2020/06/Home_Banner_1400x480_0001_PWCS-at-night2.jpg
ORGANIZER;CN="TUNRA Bulk Solids":MAILTO:Danielle.Harris@newcastle.edu.au
END:VEVENT
BEGIN:VEVENT
DTSTART;TZID=Australia/Sydney:20250918T130000
DTEND;TZID=Australia/Sydney:20250918T133000
DTSTAMP:20260423T074003
CREATED:20250903T005031Z
LAST-MODIFIED:20250903T033958Z
UID:4003-1758200400-1758202200@www.bulksolids.com.au
SUMMARY:Webinar: Materials Calibration for DEM simulation of bulk solids\, with Dr. Daniel Grasser\, TUNRA Bulk Solids & LEAP Australia
DESCRIPTION:Discrete Element Method (DEM) simulations are an incredibly useful virtual tool to predict the behaviour of a bulk solid. However\, it is necessary to calibrate and experimentally validate your simulations with a set of material tests that represent a comprehensive set of flow regimes. In addition\, the abrasive wear of equipment can be predicted when the model is calibrated based on experimentally obtained wear rates. Join Dr. Daniel Grasser from TUNRA in a joint webinar\, hosted by LEAP Australia\, to discuss recommendations and best practices on materials calibration for DEM simulation of bulk solids. \nRegister here 
URL:https://www.bulksolids.com.au/event/materials-calibration-for-dem-simulation-of-bulk-solids-with-dr-daniel-grasser-tunra-bulk-solids/
LOCATION:Online\, Australia
ATTACH;FMTTYPE=image/jpeg:https://www.bulksolids.com.au/wp-content/uploads/2025/09/TUNRA0002-scaled.jpg
END:VEVENT
BEGIN:VEVENT
DTSTART;TZID=Australia/Sydney:20250326T110000
DTEND;TZID=Australia/Sydney:20250328T143000
DTSTAMP:20260423T074003
CREATED:20241027T230701Z
LAST-MODIFIED:20250109T231038Z
UID:3627-1742986800-1743172200@www.bulksolids.com.au
SUMMARY:Online Transfer Chute Design Course
DESCRIPTION:This course will be presented over 3 half days. All times below are in Australian Eastern Daylight Time \nDay 1: 10:30 am – 2:00 pm (2 sessions per day) \nDay 2: 10:30 am – 2:00 pm (2 sessions per day) \nDay 3: 10:30 am – 2:00 pm (2 sessions per day) \nKey Learning Outcomes: \n• Design principles for favourable transfer chute design\n• Bulk solid material properties and testing\n• DEM modelling calibration testing\n• Procedures required for design and flow analysis\n• TUNRA’s 10 commandments for reliable transfer chute\ndesign\n• Application of material properties in the design process\n• Continuum Approach for hood/spoon and rock box type\nchute\n• Trajectory considerations\n• Chute flow problems due to adhesion and wear\n• Dynamic modelling of transfer chutes\n• Components for optimum accelerated flow\n• Optimising transfer chute design for feeding and transfer\n• Practical implementation of continuum mechanics\nanalysis\n• Interactive design exercise\n• Overview of the principles of DEM analysis\n• Application of DEM and other modelling techniques\n• Design for dust emission minimisation and dust and\nspillage prevention\n• Chute scale modelling\n• Optimising chute geometry for controlled wear in the flow\nzone and at the belt feed point\n• Influence of bulk solid material and conveyor belt\ninteraction prior to and post transfer\n• Obtain specific problem solving skills for transfer chutes \nThis course will be of particular interest to a wide range of industries including: \n\nMining and mineral production processing\nEnergy and environment\nChemical and petrochemical process industries\nAgriculture processing and production\nManufacturing\nPharmaceuticals\nFood industry\n\nCost\nEarly Bird Delegate Registration: $1\,900+ GST (Before 26th February\, 2025) \nDelegate Registration: $2\,300 + GST \n5 or more delegates receive a 10% discount. All fees must be paid prior to the event. \nThis course will be presented over 3 half days\, fees include electronic program notes.  This course is presented live and no recordings will be provided. \nAll fees are in Australian dollars and must be paid prior to the event. \nDownload Course Brochure
URL:https://www.bulksolids.com.au/event/online-transfer-chute-design-course/
LOCATION:Online\, Australia
ATTACH;FMTTYPE=image/jpeg:https://www.bulksolids.com.au/wp-content/uploads/2021/11/DSC00013-e1639354798527.jpg
ORGANIZER;CN="TUNRA Bulk Solids":MAILTO:Danielle.Harris@newcastle.edu.au
END:VEVENT
BEGIN:VEVENT
DTSTART;TZID=Australia/Sydney:20250303T150000
DTEND;TZID=Australia/Sydney:20250303T160000
DTSTAMP:20260423T074003
CREATED:20250225T000844Z
LAST-MODIFIED:20250225T022729Z
UID:3755-1741014000-1741017600@www.bulksolids.com.au
SUMMARY:TUNRA Talks: Expert Answers to your Bulk Materials Handling Challenges Live Q & A Event
DESCRIPTION:TUNRA’s team of experts will be answering technical questions relating to all areas of bulk solids handling\, including:\n– Bulk Materials Characterisation\n– Storage vessels (bins / hoppers / stockpiles)\n– Feeders\n– Belt conveyors\n– Testing for conveyor components (belts / idlers / scrapers including according to Australian Standards and other international standards)\n– Wear of bulk materials systems\n– Transfer chutes\n– The use of Discrete Element Method (DEM) modelling in various bulk handling systems\n– DEM calibration \n…and more. \nJoin us live for the opportunity to chat to our experts! \nReceiving questions in advance will allow us to make sure we’ve got the right specialists online. Please send your questions to Priscilla Freire
URL:https://www.bulksolids.com.au/event/tunra-talks-expert-answers-to-your-bulk-materials-handling-challenges-live-q-a-event/
LOCATION:Online\, Australia
ATTACH;FMTTYPE=image/jpeg:https://www.bulksolids.com.au/wp-content/uploads/2020/06/Home_Banner_1400x480_122-1.jpg
ORGANIZER;CN="TUNRA Bulk Solids":MAILTO:Danielle.Harris@newcastle.edu.au
END:VEVENT
BEGIN:VEVENT
DTSTART;TZID=Australia/Sydney:20240219T090000
DTEND;TZID=Australia/Sydney:20240223T133000
DTSTAMP:20260423T074003
CREATED:20230621T054103Z
LAST-MODIFIED:20231217T223739Z
UID:2440-1708333200-1708695000@www.bulksolids.com.au
SUMMARY:Online Bulk Solids Course
DESCRIPTION:Key learning outcomes: \n\nBasic principles of handling plant design\nBulk solids flow properties and application to design\nLoads on bin walls – symmetric\, eccentric discharge – shock loads and silo quaking\nStockpile design incorporating draw-down\, live capacity\, base loads and locations of reclaim hoppers\, feeders and tunnels\nLoads on buried structures in bins and stockpiles\nChute design for feeding and transfer\nBelt conveying – overview of various types of conveyor belt interactions – review of basic design procedures\n\nThis course will be of particular interest to a wide range of industries including: \n\nMining and mineral production processing\nPower generation\nEnergy and environment\nChemical and petrochemical process industries\nAgriculture processing and production\nManufacturing\nPharmaceuticals\nFood industry\n\nCost\nEarly Bird Delegate Registration: $2250+ GST (Before 19th January\, 2024) \nDelegate Registration: $2650 + GST \n5 or more delegates receive a 10% discount. All fees are in Australian Dollars and must be paid prior to the event. \nFees include electronic program notes and additional reading materials. \nPlease note\, course presenters are subject to change. All fees must be paid prior to the event. \nDownload Brochure 
URL:https://www.bulksolids.com.au/event/online-bulk-solids-course/
LOCATION:Online\, Australia
ATTACH;FMTTYPE=image/jpeg:https://www.bulksolids.com.au/wp-content/uploads/2022/03/jim-witkowski-ZaVUNY5rHmY-unsplash-1-scaled.jpg
ORGANIZER;CN="TUNRA Bulk Solids":MAILTO:Danielle.Harris@newcastle.edu.au
END:VEVENT
BEGIN:VEVENT
DTSTART;VALUE=DATE:20230306
DTEND;VALUE=DATE:20230311
DTSTAMP:20260423T074003
CREATED:20221019T223109Z
LAST-MODIFIED:20230221T235257Z
UID:2082-1678060800-1678492799@www.bulksolids.com.au
SUMMARY:Storage\, Feeding\, Transfer\, Belt Conveying Course - Online
DESCRIPTION:The storage\, handling and transportation of bulk solid materials are major activities for a vast number and variety of industries throughout the world. These range from the gentle handling of very small quantities of material in the pharmaceutical and chemical industries to the vast quantities handled and processed by the mining and mineral companies. This diversity is particularly evident in Australia where the wide-ranging nature and scale of operations is somewhat unique. \nConsiderable advances continue to be made in research\, development\, application and implementation of the technologies associated with various aspects of bulk solids handling. \nThis course will be of particular interest to a wide range of industries including: \n\nMining and mineral production processing\nPower generation\nEnergy and environment\nChemical and petrochemical process industries\nAgriculture processing and production\nManufacturing\nPharmaceuticals\nFood industry\n\nCost\nEarly Bird Delegate Registration: $2250+ GST (Before 6th February 2023) \nDelegate Registration: $2650 + GST \n5 or more delegates receive a 10% discount. All fees must be paid prior to the event. \nFees include program notes. \nPlease note\, course presenters are subject to change. All fees must be paid prior to the event. \nDownload Brochure
URL:https://www.bulksolids.com.au/event/storage-feeding-transfer-and-belt-conveying-course-online-2/
LOCATION:Online\, Australia
ATTACH;FMTTYPE=image/jpeg:https://www.bulksolids.com.au/wp-content/uploads/2021/11/sky-e1639352162956.jpg
ORGANIZER;CN="TUNRA Bulk Solids":MAILTO:Danielle.Harris@newcastle.edu.au
END:VEVENT
BEGIN:VEVENT
DTSTART;TZID=Australia/Sydney:20220915T133000
DTEND;TZID=Australia/Sydney:20220915T143000
DTSTAMP:20260423T074003
CREATED:20220907T012950Z
LAST-MODIFIED:20220907T014220Z
UID:1921-1663248600-1663252200@www.bulksolids.com.au
SUMMARY:Webinar: Bulk Materials Handling Challenges in Process Industries
DESCRIPTION:ESSS in conjunction with TUNRA Bulk Solids will be hosting a webinar on 15th September. In this webinar\, TUNRA Bulk Solids’ Engineering Manager Dr Bin Chen and Consulting Engineer Dr Jens Plinke will present on the principles of flow properties and air-particle interactions\, including testing procedures\, interpretation and application to the design of handling systems such as mass flow/funnel flow bins\, discharge/feeding equipment and pneumatic conveying systems. \nTopics Covered: \n\nCommon material storage and handling issues\nIntroduction to modes of flow in bins/hoppers\nFlow property and air-particle behaviour testing\nApplication of material properties on storage and handling systems\nPneumatic conveying dilute and dense phase systems\nTrouble shooting and case studies\n\nUnderstanding these fundamentals and learning from common mistakes can help you overcome existing handling problems and design new systems with trouble-free plant operations for the process industries dealing with bulk materials. \nThis workshop will be of interest to professionals in production management\, strategic planning\, mechanical & process engineering\, process control\, continuous improvement working bodies\, and maintenance personnel. \nCost \nThis is a free webinar\, for further information please contact Priscilla.Freire@newcastle.edu.au or click here to register \n  \n 
URL:https://www.bulksolids.com.au/event/webinar-bulk-materials-handling-challenges-in-process-industries/
LOCATION:Online\, Australia
ATTACH;FMTTYPE=image/jpeg:https://www.bulksolids.com.au/wp-content/uploads/2020/06/case-studies.jpg
END:VEVENT
BEGIN:VEVENT
DTSTART;VALUE=DATE:20220314
DTEND;VALUE=DATE:20220319
DTSTAMP:20260423T074003
CREATED:20211129T030905Z
LAST-MODIFIED:20220202T212705Z
UID:1580-1647216000-1647647999@www.bulksolids.com.au
SUMMARY:Storage\, Feeding\, Transfer and Belt Conveying Course - Online
DESCRIPTION:The storage\, handling and transportation of bulk solid materials are major activities for a vast number and variety of industries throughout the world. These range from the gentle handling of very small quantities of material in the pharmaceutical and chemical industries to the vast quantities handled and processed by the mining and mineral companies. This diversity is particularly evident in Australia where the wide-ranging nature and scale of operations is somewhat unique. \nConsiderable advances continue to be made in research\, development\, application and implementation of the technologies associated with various aspects of bulk solids handling. \nThis course will be of particular interest to a wide range of industries including: \n\nMining and mineral production processing\nPower generation\nEnergy and environment\nChemical and petrochemical process industries\nAgriculture processing and production\nManufacturing\nPharmaceuticals\nFood industry\n\nCost\nEarly Bird Delegate Registration: $2250+ GST (Before 15th February 2022) \nDelegate Registration: $2650 + GST \n5 or more delegates receive a 10% discount. All fees must be paid prior to the event. \nFees include program notes. \nPlease note\, course presenters are subject to change. All fees must be paid prior to the event. \nDownload Brochure
URL:https://www.bulksolids.com.au/event/storage-feeding-transfer-and-belt-conveying-course-online/
LOCATION:Online\, Australia
ATTACH;FMTTYPE=image/jpeg:https://www.bulksolids.com.au/wp-content/uploads/2020/06/TBS0120-2-1.jpg
ORGANIZER;CN="TUNRA Bulk Solids":MAILTO:Danielle.Harris@newcastle.edu.au
END:VEVENT
END:VCALENDAR