BEGIN:VCALENDAR
VERSION:2.0
PRODID:-//TUNRA Bulk Solids - ECPv6.15.20//NONSGML v1.0//EN
CALSCALE:GREGORIAN
METHOD:PUBLISH
X-ORIGINAL-URL:https://www.bulksolids.com.au
X-WR-CALDESC:Events for TUNRA Bulk Solids
REFRESH-INTERVAL;VALUE=DURATION:PT1H
X-Robots-Tag:noindex
X-PUBLISHED-TTL:PT1H
BEGIN:VTIMEZONE
TZID:Australia/Sydney
BEGIN:STANDARD
TZOFFSETFROM:+1100
TZOFFSETTO:+1000
TZNAME:AEST
DTSTART:20240406T160000
END:STANDARD
BEGIN:DAYLIGHT
TZOFFSETFROM:+1000
TZOFFSETTO:+1100
TZNAME:AEDT
DTSTART:20241005T160000
END:DAYLIGHT
BEGIN:STANDARD
TZOFFSETFROM:+1100
TZOFFSETTO:+1000
TZNAME:AEST
DTSTART:20250405T160000
END:STANDARD
BEGIN:DAYLIGHT
TZOFFSETFROM:+1000
TZOFFSETTO:+1100
TZNAME:AEDT
DTSTART:20251004T160000
END:DAYLIGHT
BEGIN:STANDARD
TZOFFSETFROM:+1100
TZOFFSETTO:+1000
TZNAME:AEST
DTSTART:20260404T160000
END:STANDARD
BEGIN:DAYLIGHT
TZOFFSETFROM:+1000
TZOFFSETTO:+1100
TZNAME:AEDT
DTSTART:20261003T160000
END:DAYLIGHT
END:VTIMEZONE
BEGIN:VEVENT
DTSTART;TZID=Australia/Sydney:20251111T080000
DTEND;TZID=Australia/Sydney:20251113T170000
DTSTAMP:20260423T103609
CREATED:20250106T231820Z
LAST-MODIFIED:20250109T230755Z
UID:3701-1762848000-1763053200@www.bulksolids.com.au
SUMMARY:3-Day Bulk Solids Course - Perth
DESCRIPTION:The storage\, handling and transportation of bulk solid materials are major activities for a vast number and variety of industries throughout the world. These range from the gentle handling of very small quantities of material in the pharmaceutical and chemical industries to the vast quantities handled and processed by the mining and mineral companies. This diversity is particularly evident in Australia where the wide-ranging nature and scale of operations is somewhat unique. \nConsiderable advances continue to be made in research\, development\, application and implementation of the technologies associated with various aspects of bulk solids handling. \nThis course will be of particular interest to a wide range of industries including: \n\nMining and mineral production processing\nPower generation\nEnergy and environment\nChemical and petrochemical process industries\nAgriculture processing and production\nManufacturing\nPharmaceuticals\nFood industry\n\nCost\nEarly Bird Delegate Registration: $3\, 250+ GST (Before 11th October 2025) \nDelegate Registration: $3\, 750 + GST \n5 or more delegates receive a 10% discount. All fees are in Australian dollars and must be paid prior to the event. \nFees include electronic program notes\, lunches and refreshments. \nDownload Course Brochure
URL:https://www.bulksolids.com.au/event/3-day-bulk-solids-course-perth-2/
LOCATION:Parmelia Hilton Perth\, 14 Mill Street\, Perth\, Western Australia\, 6000\, Australia
ATTACH;FMTTYPE=image/jpeg:https://www.bulksolids.com.au/wp-content/uploads/2023/01/TBS0110-scaled-e1677022176329.jpg
ORGANIZER;CN="TUNRA Bulk Solids":MAILTO:Danielle.Harris@newcastle.edu.au
END:VEVENT
END:VCALENDAR