BEGIN:VCALENDAR
VERSION:2.0
PRODID:-//TUNRA Bulk Solids - ECPv6.15.20//NONSGML v1.0//EN
CALSCALE:GREGORIAN
METHOD:PUBLISH
X-WR-CALNAME:TUNRA Bulk Solids
X-ORIGINAL-URL:https://www.bulksolids.com.au
X-WR-CALDESC:Events for TUNRA Bulk Solids
REFRESH-INTERVAL;VALUE=DURATION:PT1H
X-Robots-Tag:noindex
X-PUBLISHED-TTL:PT1H
BEGIN:VTIMEZONE
TZID:Australia/Sydney
BEGIN:STANDARD
TZOFFSETFROM:+1100
TZOFFSETTO:+1000
TZNAME:AEST
DTSTART:20210403T160000
END:STANDARD
BEGIN:DAYLIGHT
TZOFFSETFROM:+1000
TZOFFSETTO:+1100
TZNAME:AEDT
DTSTART:20211002T160000
END:DAYLIGHT
BEGIN:STANDARD
TZOFFSETFROM:+1100
TZOFFSETTO:+1000
TZNAME:AEST
DTSTART:20220402T160000
END:STANDARD
BEGIN:DAYLIGHT
TZOFFSETFROM:+1000
TZOFFSETTO:+1100
TZNAME:AEDT
DTSTART:20221001T160000
END:DAYLIGHT
BEGIN:STANDARD
TZOFFSETFROM:+1100
TZOFFSETTO:+1000
TZNAME:AEST
DTSTART:20230401T160000
END:STANDARD
BEGIN:DAYLIGHT
TZOFFSETFROM:+1000
TZOFFSETTO:+1100
TZNAME:AEDT
DTSTART:20230930T160000
END:DAYLIGHT
BEGIN:STANDARD
TZOFFSETFROM:+1100
TZOFFSETTO:+1000
TZNAME:AEST
DTSTART:20240406T160000
END:STANDARD
BEGIN:DAYLIGHT
TZOFFSETFROM:+1000
TZOFFSETTO:+1100
TZNAME:AEDT
DTSTART:20241005T160000
END:DAYLIGHT
END:VTIMEZONE
BEGIN:VEVENT
DTSTART;VALUE=DATE:20230530
DTEND;VALUE=DATE:20230602
DTSTAMP:20260423T101542
CREATED:20221019T225040Z
LAST-MODIFIED:20230221T235008Z
UID:2088-1685404800-1685663999@www.bulksolids.com.au
SUMMARY:Storage\, Feeding\, Transfer\, Belt Conveying - Mackay
DESCRIPTION:The storage\, handling and transportation of bulk solid materials are major activities for a vast number and variety of industries throughout the world. These range from the gentle handling of very small quantities of material in the pharmaceutical and chemical industries to the vast quantities handled and processed by the mining and mineral companies. This diversity is particularly evident in Australia where the wide-ranging nature and scale of operations is somewhat unique. \nConsiderable advances continue to be made in research\, development\, application and implementation of the technologies associated with various aspects of bulk solids handling. \nThis course will be of particular interest to a wide range of industries including: \n\nMining and mineral production processing\nPower generation\nEnergy and environment\nChemical and petrochemical process industries\nAgriculture processing and production\nManufacturing\nPharmaceuticals\nFood industry\n\nCost\nEarly Bird Delegate Registration: $2950+ GST (Before 30th March\, 2023) \nDelegate Registration: $3450 + GST \n5 or more delegates receive a 10% discount. All fees must be paid prior to the event. \nFees include program notes\, lunches and refreshments. \nPlease note\, course presenters are subject to change. All fees must be paid prior to the event. \nDownload Brochure \n 
URL:https://www.bulksolids.com.au/event/storage-feeding-transfer-belt-conveying-mackay/
LOCATION:Resouces Centre of Excellence\, 65 Crichtons Rd\, Mackay\, QLD\, 4740\, Australia
ATTACH;FMTTYPE=image/jpeg:https://www.bulksolids.com.au/wp-content/uploads/2021/11/sky-e1639352162956.jpg
ORGANIZER;CN="TUNRA Bulk Solids":MAILTO:Danielle.Harris@newcastle.edu.au
END:VEVENT
BEGIN:VEVENT
DTSTART;TZID=Australia/Sydney:20220720T133000
DTEND;TZID=Australia/Sydney:20220720T153000
DTSTAMP:20260423T101542
CREATED:20220512T000749Z
LAST-MODIFIED:20220512T005627Z
UID:1853-1658323800-1658331000@www.bulksolids.com.au
SUMMARY:Workshop: Materials Handling Science in the Design & Selection of Equipment - QME
DESCRIPTION:TUNRA Bulk Solids\, in conjunction with specialists from FLSmidth\, will be presenting a technical workshop at the Queensland Mining and Engineering Exhibition (QME)\, to take place in Mackay. This two-hour workshop will provide  delegates with known research development in the fundamentals of bulk solids handling and industry specialists surrounding machines types\, with solutions based primarily on Materials Handling Science and how this determines design considerations and machine selection. \nParticipants will gain insight into: \n\nImportance of material properties\nTesting/sampling considerations\nBasic design principles for efficient transfer chute operation\nDetermining the critical data/considerations/communications needed for machine selection\nImportance of defined machine operating parameters from concept to operation\n\nThis workshop will be of interest to professionals in production management\, strategic planning\, mechanical & process engineering\, process control\, continuous improvement working bodies\, and maintenance personnel. \nCost \nThis is a free workshop\, for further information or to register your interest\, please contact Priscilla.Freire@newcastle.edu.au or Danielle.Harris@newcastle.edu.au  \n  \n 
URL:https://www.bulksolids.com.au/event/bulk-materials-handling-workshop-materials-handling-science-in-the-design-selection-of-equipment-queensland-mining-engineering-exhibition/
LOCATION:Resouces Centre of Excellence\, 65 Crichtons Rd\, Mackay\, QLD\, 4740\, Australia
ATTACH;FMTTYPE=image/png:https://www.bulksolids.com.au/wp-content/uploads/2022/05/Registration-Launch.png
END:VEVENT
END:VCALENDAR