BEGIN:VCALENDAR
VERSION:2.0
PRODID:-//TUNRA Bulk Solids - ECPv6.15.20//NONSGML v1.0//EN
CALSCALE:GREGORIAN
METHOD:PUBLISH
X-ORIGINAL-URL:https://www.bulksolids.com.au
X-WR-CALDESC:Events for TUNRA Bulk Solids
REFRESH-INTERVAL;VALUE=DURATION:PT1H
X-Robots-Tag:noindex
X-PUBLISHED-TTL:PT1H
BEGIN:VTIMEZONE
TZID:Australia/Sydney
BEGIN:STANDARD
TZOFFSETFROM:+1100
TZOFFSETTO:+1000
TZNAME:AEST
DTSTART:20250405T160000
END:STANDARD
BEGIN:DAYLIGHT
TZOFFSETFROM:+1000
TZOFFSETTO:+1100
TZNAME:AEDT
DTSTART:20251004T160000
END:DAYLIGHT
BEGIN:STANDARD
TZOFFSETFROM:+1100
TZOFFSETTO:+1000
TZNAME:AEST
DTSTART:20260404T160000
END:STANDARD
BEGIN:DAYLIGHT
TZOFFSETFROM:+1000
TZOFFSETTO:+1100
TZNAME:AEDT
DTSTART:20261003T160000
END:DAYLIGHT
BEGIN:STANDARD
TZOFFSETFROM:+1100
TZOFFSETTO:+1000
TZNAME:AEST
DTSTART:20270403T160000
END:STANDARD
BEGIN:DAYLIGHT
TZOFFSETFROM:+1000
TZOFFSETTO:+1100
TZNAME:AEDT
DTSTART:20271002T160000
END:DAYLIGHT
END:VTIMEZONE
BEGIN:VEVENT
DTSTART;TZID=Australia/Sydney:20260519T080000
DTEND;TZID=Australia/Sydney:20260521T170000
DTSTAMP:20260423T032108
CREATED:20250612T040911Z
LAST-MODIFIED:20251127T221448Z
UID:3904-1779177600-1779382800@www.bulksolids.com.au
SUMMARY:3-Day Bulk Materials Handling Course - Brisbane\, May 2026
DESCRIPTION:TUNRA continues to lead the way in specialised training for the bulk materials handling\, mining\, and industrial processing sectors. TUNRA’s courses are designed to deliver practical\, research-backed knowledge developed through decades of industry collaboration\, research and world-class expertise.  Expand your knowledge in: \nBulk Materials Handling Fundamentals\nCore principles of flow behaviour\, equipment selection\, and system design for engineers and technical staff entering the field. \nConveyor System Design & Optimisation\nAdvanced design techniques\, reliability engineering\, and strategies for improving performance and reducing downtime in conveyor systems. \nStorage\, Discharge & Transfer Design\nPractical solutions for hoppers\, silos\, bins\, and chutes\, including troubleshooting and flow optimisation based on TUNRA’s industry leading research. \nParticle Characterisation & Testing\nUnderstanding material properties\, test procedures\, and how these influence equipment design and operational decisions. \nDust Control & Environmental Management\nModern strategies to assess\, prevent\, and manage dust emissions. \nThis course will be of particular interest to a wide range of industries including: \n\nMining and mineral production processing\nPower generation\nEnergy and environment\nChemical and petrochemical process industries\nAgriculture processing and production\nManufacturing\nPharmaceuticals\nFood industry\n\nCost\nEarly Bird Delegate Registration: $3\, 250+ GST (Before 19th April\, 2026) \nDelegate Registration: $3\, 750 + GST \n5 or more delegates receive a 10% discount\, all fees are in Australian dollars and must be paid prior to the event. \nFees include electronic program notes\, lunches and refreshments. \nDownload Course Brochure
URL:https://www.bulksolids.com.au/event/brisbane-3-day-bulk-materials-handling-course-may-2026/
LOCATION:Hyatt Regency\, Brisbane\, 72 Queen St\, Brisbane\, Queensland\, 4000\, Australia
ATTACH;FMTTYPE=image/jpeg:https://www.bulksolids.com.au/wp-content/uploads/2020/06/Home_Banner_1400x480_0001_PWCS-at-night2.jpg
ORGANIZER;CN="TUNRA Bulk Solids":MAILTO:Danielle.Harris@newcastle.edu.au
END:VEVENT
END:VCALENDAR