BEGIN:VCALENDAR
VERSION:2.0
PRODID:-//TUNRA Bulk Solids - ECPv6.15.20//NONSGML v1.0//EN
CALSCALE:GREGORIAN
METHOD:PUBLISH
X-ORIGINAL-URL:https://www.bulksolids.com.au
X-WR-CALDESC:Events for TUNRA Bulk Solids
REFRESH-INTERVAL;VALUE=DURATION:PT1H
X-Robots-Tag:noindex
X-PUBLISHED-TTL:PT1H
BEGIN:VTIMEZONE
TZID:Australia/Sydney
BEGIN:STANDARD
TZOFFSETFROM:+1100
TZOFFSETTO:+1000
TZNAME:AEST
DTSTART:20250405T160000
END:STANDARD
BEGIN:DAYLIGHT
TZOFFSETFROM:+1000
TZOFFSETTO:+1100
TZNAME:AEDT
DTSTART:20251004T160000
END:DAYLIGHT
BEGIN:STANDARD
TZOFFSETFROM:+1100
TZOFFSETTO:+1000
TZNAME:AEST
DTSTART:20260404T160000
END:STANDARD
BEGIN:DAYLIGHT
TZOFFSETFROM:+1000
TZOFFSETTO:+1100
TZNAME:AEDT
DTSTART:20261003T160000
END:DAYLIGHT
BEGIN:STANDARD
TZOFFSETFROM:+1100
TZOFFSETTO:+1000
TZNAME:AEST
DTSTART:20270403T160000
END:STANDARD
BEGIN:DAYLIGHT
TZOFFSETFROM:+1000
TZOFFSETTO:+1100
TZNAME:AEDT
DTSTART:20271002T160000
END:DAYLIGHT
END:VTIMEZONE
BEGIN:VEVENT
DTSTART;TZID=Australia/Sydney:20260707T090000
DTEND;TZID=Australia/Sydney:20260709T170000
DTSTAMP:20260423T020217
CREATED:20251125T005122Z
LAST-MODIFIED:20251209T031947Z
UID:4075-1783414800-1783616400@www.bulksolids.com.au
SUMMARY:15th International Conference on Bulk Materials Storage\, Handling and Transportation ICBMH 2026
DESCRIPTION:The 15th International Conference on Bulk Materials Storage\, Handling and Transportation follows the well-established tradition of the previous conferences in the ICBMH series\, dating back to 1983.  The ICBMH series prides itself on supporting and inviting the greater bulk materials community to come together over 3-days to share their knowledge in this unique field\, from all sectors of industry\, from smaller scale process plants through to the mining and minerals industries to showcase papers\, industrial case studies and success stories in the field of bulk materials handling. This conference will provide an excellent forum for practitioners\, researchers and designers to come together to review and exchange ideas and experiences in established\, new and emerging technologies with the many others who deal with bulk materials on a daily basis\, both nationally a internationally. \n 
URL:https://www.bulksolids.com.au/event/15th-international-conference-on-bulk-materials-storage-handling-and-transportation-icbmh-2026/
LOCATION:The Esplanade Hotel Fremantle\, by Rydges\, 46-54 Marine Terrace\, Fremantle\, Western Australia\, 6160\, Australia
ATTACH;FMTTYPE=image/png:https://www.bulksolids.com.au/wp-content/uploads/2025/11/ICBMH2026_logo_2colour.png
ORGANIZER;CN="TUNRA Bulk Solids":MAILTO:Danielle.Harris@newcastle.edu.au
END:VEVENT
END:VCALENDAR